BEGIN:VCALENDAR
VERSION:2.0
PRODID:-//ChamberMaster//Event Calendar 2.0//EN
METHOD:PUBLISH
X-PUBLISHED-TTL:P3D
REFRESH-INTERVAL:P3D
CALSCALE:GREGORIAN
BEGIN:VEVENT
DTSTART:20200819T170000Z
DTEND:20200819T180000Z
X-MICROSOFT-CDO-ALLDAYEVENT:FALSE
SUMMARY:AUG 19 | Going into Business with your Family and Friends
DESCRIPTION:Use promo code: ABCC2020 when applying\n\nhttps://ilivehereigivehere.org/austin-involved-board-internship
X-ALT-DESC;FMTTYPE=text/html:<span style="color: rgb(38\, 38\, 38)\; font-family: -apple-system\, system-ui\, &quot\;Segoe UI&quot\;\, Roboto\, Helvetica\, Arial\, sans-serif\; font-size: 14px\;">Use promo code: ABCC2020 when applying</span><br style="color: rgb(38\, 38\, 38)\; font-family: -apple-system\, system-ui\, &quot\;Segoe UI&quot\;\, Roboto\, Helvetica\, Arial\, sans-serif\; font-size: 14px\;" />\n<span style="color: rgb(38\, 38\, 38)\; font-family: -apple-system\, system-ui\, &quot\;Segoe UI&quot\;\, Roboto\, Helvetica\, Arial\, sans-serif\; font-size: 14px\;">https://ilivehereigivehere.org/austin-involved-board-internship</span>
LOCATION:
UID:e.3506.50
SEQUENCE:3
DTSTAMP:20260420T182337Z
URL:https://www.austinbcc.org/events/details/aug-19-going-into-business-with-your-family-and-friends-50
END:VEVENT

END:VCALENDAR
