BEGIN:VCALENDAR
VERSION:2.0
PRODID:-//ChamberMaster//Event Calendar 2.0//EN
METHOD:PUBLISH
X-PUBLISHED-TTL:P3D
REFRESH-INTERVAL:P3D
CALSCALE:GREGORIAN
BEGIN:VEVENT
DTSTART:20260527T163000Z
DTEND:20260527T180000Z
X-MICROSOFT-CDO-ALLDAYEVENT:FALSE
SUMMARY:May 2026 GABC Monthly Luncheon Series
DESCRIPTION:Join us for our May Luncheon featuring Reginald Worlds with Trini Construction and guest speaker Hopeton Hay for an engaging conversation at the intersection of business\, culture\, and community impact. This dynamic session will highlight opportunities in the construction industry while exploring the importance of storytelling\, representation\, and economic growth in Austin. Connect with fellow professionals\, gain valuable insights\, and be part of a conversation that informs and inspires.
X-ALT-DESC;FMTTYPE=text/html:Join us for our May Luncheon featuring Reginald Worlds with&nbsp\;<strong data-end="104" data-start="82">Trini Construction</strong> and guest speaker <strong data-end="138" data-start="123">Hopeton Hay</strong> for an engaging conversation at the intersection of business\, culture\, and community impact. This dynamic session will highlight opportunities in the construction industry while exploring the importance of storytelling\, representation\, and economic growth in Austin. Connect with fellow professionals\, gain valuable insights\, and be part of a conversation that informs and inspires.
LOCATION:African American Cultural & Heritage Facility ( 912 East 11th Street\, Austin\, Texas 78702AACHF) conference room
UID:e.3506.538
SEQUENCE:3
DTSTAMP:20260422T175712Z
URL:https://www.austinbcc.org/events/details/may-2026-gabc-monthly-luncheon-series-538
END:VEVENT

END:VCALENDAR
